Workbook

Sheet Monthly P&L
A1: Profit and Loss Statement
A2: Your Business Name
A3: First month of the year: | B3: 46023 | D3: Enter amounts in the pale yellow cells as positive numbers. Totals, profit and margins calculate automatically.
A5: Line item | B5: =EDATE($B$3,0) | C5: =EDATE($B$3,1) | D5: =EDATE($B$3,2) | E5: =EDATE($B$3,3) | F5: =EDATE($B$3,4) | G5: =EDATE($B$3,5) | H5: =EDATE($B$3,6) | I5: =EDATE($B$3,7) | J5: =EDATE($B$3,8) | K5: =EDATE($B$3,9) | L5: =EDATE($B$3,10) | M5: =EDATE($B$3,11) | N5: Total
A6: REVENUE
A7: Sales of products | N7: =SUM(B7:M7)
A8: Sales of services | N8: =SUM(B8:M8)
A9: Other operating revenue | N9: =SUM(B9:M9)
A10: Less: refunds, returns & discounts | N10: =SUM(B10:M10)
A11: Total revenue | B11: =SUM(B7:B9)-B10 | C11: =SUM(C7:C9)-C10 | D11: =SUM(D7:D9)-D10 | E11: =SUM(E7:E9)-E10 | F11: =SUM(F7:F9)-F10 | G11: =SUM(G7:G9)-G10 | H11: =SUM(H7:H9)-H10 | I11: =SUM(I7:I9)-I10 | ... N11: =SUM(N7:N9)-N10
A13: COST OF GOODS SOLD (COGS)
A14: Materials & inventory sold | N14: =SUM(B14:M14)
A15: Direct labor | N15: =SUM(B15:M15)
A16: Subcontractors | N16: =SUM(B16:M16)
A17: Freight & shipping in | N17: =SUM(B17:M17)
A18: Total cost of goods sold | B18: =SUM(B14:B17) | C18: =SUM(C14:C17) | D18: =SUM(D14:D17) | E18: =SUM(E14:E17) | F18: =SUM(F14:F17) | G18: =SUM(G14:G17) | H18: =SUM(H14:H17) | I18: =SUM(I14:I17) | ... N18: =SUM(N14:N17)
A19: GROSS PROFIT | B19: =B11-B18 | C19: =C11-C18 | D19: =D11-D18 | E19: =E11-E18 | F19: =F11-F18 | G19: =G11-G18 | H19: =H11-H18 | I19: =I11-I18 | ... N19: =N11-N18
A20: Gross margin % | B20: =IF(B11=0,"",B19/B11) | C20: =IF(C11=0,"",C19/C11) | D20: =IF(D11=0,"",D19/D11) | E20: =IF(E11=0,"",E19/E11) | F20: =IF(F11=0,"",F19/F11) | G20: =IF(G11=0,"",G19/G11) | H20: =IF(H11=0,"",H19/H11) | I20: =IF(I11=0,"",I19/I11) | ... N20: =IF(N11=0,"",N19/N11)
A22: OPERATING EXPENSES
A23: Advertising & marketing | N23: =SUM(B23:M23)
A24: Bank & payment processing fees | N24: =SUM(B24:M24)
A25: Insurance | N25: =SUM(B25:M25)
A26: Office supplies & equipment | N26: =SUM(B26:M26)
A27: Professional fees (legal, accounting) | N27: =SUM(B27:M27)
A28: Rent or lease | N28: =SUM(B28:M28)
A29: Repairs & maintenance | N29: =SUM(B29:M29)
A30: Salaries & wages | N30: =SUM(B30:M30)
A31: Payroll taxes & benefits | N31: =SUM(B31:M31)
A32: Software & subscriptions | N32: =SUM(B32:M32)
A33: Telephone & internet | N33: =SUM(B33:M33)
A34: Travel & meals | N34: =SUM(B34:M34)
... A38: Other operating expenses | N38: =SUM(B38:M38)
A39: Total operating expenses | B39: =SUM(B23:B38) | C39: =SUM(C23:C38) | D39: =SUM(D23:D38) | E39: =SUM(E23:E38) | F39: =SUM(F23:F38) | G39: =SUM(G23:G38) | H39: =SUM(H23:H38) | I39: =SUM(I23:I38) | ... N39: =SUM(N23:N38)
A40: OPERATING INCOME | B40: =B19-B39 | C40: =C19-C39 | D40: =D19-D39 | E40: =E19-E39 | F40: =F19-F39 | G40: =G19-G39 | H40: =H19-H39 | I40: =I19-I39 | ... N40: =N19-N39
A42: OTHER INCOME & EXPENSES
A43: Interest income | N43: =SUM(B43:M43)
A44: Other income | N44: =SUM(B44:M44)
A45: Interest expense | N45: =SUM(B45:M45)
A46: Other expenses | N46: =SUM(B46:M46)
A47: Net other income (expense) | B47: =B43+B44-B45-B46 | C47: =C43+C44-C45-C46 | D47: =D43+D44-D45-D46 | E47: =E43+E44-E45-E46 | F47: =F43+F44-F45-F46 | G47: =G43+G44-G45-G46 | H47: =H43+H44-H45-H46 | I47: =I43+I44-I45-I46 | ... N47: =N43+N44-N45-N46
...

Sheet Annual summary
A1: Annual Profit and Loss Summary
A2: ='Monthly P&L'!A2
A3: ="For the 12 months beginning "&TEXT('Monthly P&L'!B3,"mmmm yyyy")
A5: Line item | B5: Q1 | C5: Q2 | D5: Q3 | E5: Q4 | F5: Full year | G5: % of revenue
A6: REVENUE
A7: Sales of products | B7: =SUM('Monthly P&L'!B7:D7) | C7: =SUM('Monthly P&L'!E7:G7) | D7: =SUM('Monthly P&L'!H7:J7) | E7: =SUM('Monthly P&L'!K7:M7) | F7: ='Monthly P&L'!N7 | G7: =IF($F$11=0,"",F7/$F$11)
A8: Sales of services | B8: =SUM('Monthly P&L'!B8:D8) | C8: =SUM('Monthly P&L'!E8:G8) | D8: =SUM('Monthly P&L'!H8:J8) | E8: =SUM('Monthly P&L'!K8:M8) | F8: ='Monthly P&L'!N8 | G8: =IF($F$11=0,"",F8/$F$11)
A9: Other operating revenue | B9: =SUM('Monthly P&L'!B9:D9) | C9: =SUM('Monthly P&L'!E9:G9) | D9: =SUM('Monthly P&L'!H9:J9) | E9: =SUM('Monthly P&L'!K9:M9) | F9: ='Monthly P&L'!N9 | G9: =IF($F$11=0,"",F9/$F$11)
A10: Less: refunds, returns & discounts | B10: =SUM('Monthly P&L'!B10:D10) | C10: =SUM('Monthly P&L'!E10:G10) | D10: =SUM('Monthly P&L'!H10:J10) | E10: =SUM('Monthly P&L'!K10:M10) | F10: ='Monthly P&L'!N10 | G10: =IF($F$11=0,"",F10/$F$11)
A11: Total revenue | B11: =SUM('Monthly P&L'!B11:D11) | C11: =SUM('Monthly P&L'!E11:G11) | D11: =SUM('Monthly P&L'!H11:J11) | E11: =SUM('Monthly P&L'!K11:M11) | F11: ='Monthly P&L'!N11 | G11: =IF($F$11=0,"",F11/$F$11)
A13: COST OF GOODS SOLD (COGS)
A14: Materials & inventory sold | B14: =SUM('Monthly P&L'!B14:D14) | C14: =SUM('Monthly P&L'!E14:G14) | D14: =SUM('Monthly P&L'!H14:J14) | E14: =SUM('Monthly P&L'!K14:M14) | F14: ='Monthly P&L'!N14 | G14: =IF($F$11=0,"",F14/$F$11)
A15: Direct labor | B15: =SUM('Monthly P&L'!B15:D15) | C15: =SUM('Monthly P&L'!E15:G15) | D15: =SUM('Monthly P&L'!H15:J15) | E15: =SUM('Monthly P&L'!K15:M15) | F15: ='Monthly P&L'!N15 | G15: =IF($F$11=0,"",F15/$F$11)
A16: Subcontractors | B16: =SUM('Monthly P&L'!B16:D16) | C16: =SUM('Monthly P&L'!E16:G16) | D16: =SUM('Monthly P&L'!H16:J16) | E16: =SUM('Monthly P&L'!K16:M16) | F16: ='Monthly P&L'!N16 | G16: =IF($F$11=0,"",F16/$F$11)
A17: Freight & shipping in | B17: =SUM('Monthly P&L'!B17:D17) | C17: =SUM('Monthly P&L'!E17:G17) | D17: =SUM('Monthly P&L'!H17:J17) | E17: =SUM('Monthly P&L'!K17:M17) | F17: ='Monthly P&L'!N17 | G17: =IF($F$11=0,"",F17/$F$11)
A18: Total cost of goods sold | B18: =SUM('Monthly P&L'!B18:D18) | C18: =SUM('Monthly P&L'!E18:G18) | D18: =SUM('Monthly P&L'!H18:J18) | E18: =SUM('Monthly P&L'!K18:M18) | F18: ='Monthly P&L'!N18 | G18: =IF($F$11=0,"",F18/$F$11)
A19: GROSS PROFIT | B19: =SUM('Monthly P&L'!B19:D19) | C19: =SUM('Monthly P&L'!E19:G19) | D19: =SUM('Monthly P&L'!H19:J19) | E19: =SUM('Monthly P&L'!K19:M19) | F19: ='Monthly P&L'!N19 | G19: =IF($F$11=0,"",F19/$F$11)
A20: Gross margin % | B20: =IF(B11=0,"",B19/B11) | C20: =IF(C11=0,"",C19/C11) | D20: =IF(D11=0,"",D19/D11) | E20: =IF(E11=0,"",E19/E11) | F20: =IF(F11=0,"",F19/F11)
A22: OPERATING EXPENSES
A23: Advertising & marketing | B23: =SUM('Monthly P&L'!B23:D23) | C23: =SUM('Monthly P&L'!E23:G23) | D23: =SUM('Monthly P&L'!H23:J23) | E23: =SUM('Monthly P&L'!K23:M23) | F23: ='Monthly P&L'!N23 | G23: =IF($F$11=0,"",F23/$F$11)
A24: Bank & payment processing fees | B24: =SUM('Monthly P&L'!B24:D24) | C24: =SUM('Monthly P&L'!E24:G24) | D24: =SUM('Monthly P&L'!H24:J24) | E24: =SUM('Monthly P&L'!K24:M24) | F24: ='Monthly P&L'!N24 | G24: =IF($F$11=0,"",F24/$F$11)
A25: Insurance | B25: =SUM('Monthly P&L'!B25:D25) | C25: =SUM('Monthly P&L'!E25:G25) | D25: =SUM('Monthly P&L'!H25:J25) | E25: =SUM('Monthly P&L'!K25:M25) | F25: ='Monthly P&L'!N25 | G25: =IF($F$11=0,"",F25/$F$11)
A26: Office supplies & equipment | B26: =SUM('Monthly P&L'!B26:D26) | C26: =SUM('Monthly P&L'!E26:G26) | D26: =SUM('Monthly P&L'!H26:J26) | E26: =SUM('Monthly P&L'!K26:M26) | F26: ='Monthly P&L'!N26 | G26: =IF($F$11=0,"",F26/$F$11)
A27: Professional fees (legal, accounting) | B27: =SUM('Monthly P&L'!B27:D27) | C27: =SUM('Monthly P&L'!E27:G27) | D27: =SUM('Monthly P&L'!H27:J27) | E27: =SUM('Monthly P&L'!K27:M27) | F27: ='Monthly P&L'!N27 | G27: =IF($F$11=0,"",F27/$F$11)
A28: Rent or lease | B28: =SUM('Monthly P&L'!B28:D28) | C28: =SUM('Monthly P&L'!E28:G28) | D28: =SUM('Monthly P&L'!H28:J28) | E28: =SUM('Monthly P&L'!K28:M28) | F28: ='Monthly P&L'!N28 | G28: =IF($F$11=0,"",F28/$F$11)
A29: Repairs & maintenance | B29: =SUM('Monthly P&L'!B29:D29) | C29: =SUM('Monthly P&L'!E29:G29) | D29: =SUM('Monthly P&L'!H29:J29) | E29: =SUM('Monthly P&L'!K29:M29) | F29: ='Monthly P&L'!N29 | G29: =IF($F$11=0,"",F29/$F$11)
A30: Salaries & wages | B30: =SUM('Monthly P&L'!B30:D30) | C30: =SUM('Monthly P&L'!E30:G30) | D30: =SUM('Monthly P&L'!H30:J30) | E30: =SUM('Monthly P&L'!K30:M30) | F30: ='Monthly P&L'!N30 | G30: =IF($F$11=0,"",F30/$F$11)
A31: Payroll taxes & benefits | B31: =SUM('Monthly P&L'!B31:D31) | C31: =SUM('Monthly P&L'!E31:G31) | D31: =SUM('Monthly P&L'!H31:J31) | E31: =SUM('Monthly P&L'!K31:M31) | F31: ='Monthly P&L'!N31 | G31: =IF($F$11=0,"",F31/$F$11)
A32: Software & subscriptions | B32: =SUM('Monthly P&L'!B32:D32) | C32: =SUM('Monthly P&L'!E32:G32) | D32: =SUM('Monthly P&L'!H32:J32) | E32: =SUM('Monthly P&L'!K32:M32) | F32: ='Monthly P&L'!N32 | G32: =IF($F$11=0,"",F32/$F$11)
A33: Telephone & internet | B33: =SUM('Monthly P&L'!B33:D33) | C33: =SUM('Monthly P&L'!E33:G33) | D33: =SUM('Monthly P&L'!H33:J33) | E33: =SUM('Monthly P&L'!K33:M33) | F33: ='Monthly P&L'!N33 | G33: =IF($F$11=0,"",F33/$F$11)
A34: Travel & meals | B34: =SUM('Monthly P&L'!B34:D34) | C34: =SUM('Monthly P&L'!E34:G34) | D34: =SUM('Monthly P&L'!H34:J34) | E34: =SUM('Monthly P&L'!K34:M34) | F34: ='Monthly P&L'!N34 | G34: =IF($F$11=0,"",F34/$F$11)
... A40: OPERATING INCOME | B40: =SUM('Monthly P&L'!B40:D40) | C40: =SUM('Monthly P&L'!E40:G40) | D40: =SUM('Monthly P&L'!H40:J40) | E40: =SUM('Monthly P&L'!K40:M40) | F40: ='Monthly P&L'!N40 | G40: =IF($F$11=0,"",F40/$F$11)
A42: OTHER INCOME & EXPENSES
A43: Interest income | B43: =SUM('Monthly P&L'!B43:D43) | C43: =SUM('Monthly P&L'!E43:G43) | D43: =SUM('Monthly P&L'!H43:J43) | E43: =SUM('Monthly P&L'!K43:M43) | F43: ='Monthly P&L'!N43 | G43: =IF($F$11=0,"",F43/$F$11)
A44: Other income | B44: =SUM('Monthly P&L'!B44:D44) | C44: =SUM('Monthly P&L'!E44:G44) | D44: =SUM('Monthly P&L'!H44:J44) | E44: =SUM('Monthly P&L'!K44:M44) | F44: ='Monthly P&L'!N44 | G44: =IF($F$11=0,"",F44/$F$11)
A45: Interest expense | B45: =SUM('Monthly P&L'!B45:D45) | C45: =SUM('Monthly P&L'!E45:G45) | D45: =SUM('Monthly P&L'!H45:J45) | E45: =SUM('Monthly P&L'!K45:M45) | F45: ='Monthly P&L'!N45 | G45: =IF($F$11=0,"",F45/$F$11)
A46: Other expenses | B46: =SUM('Monthly P&L'!B46:D46) | C46: =SUM('Monthly P&L'!E46:G46) | D46: =SUM('Monthly P&L'!H46:J46) | E46: =SUM('Monthly P&L'!K46:M46) | F46: ='Monthly P&L'!N46 | G46: =IF($F$11=0,"",F46/$F$11)
A47: Net other income (expense) | B47: =SUM('Monthly P&L'!B47:D47) | C47: =SUM('Monthly P&L'!E47:G47) | D47: =SUM('Monthly P&L'!H47:J47) | E47: =SUM('Monthly P&L'!K47:M47) | F47: ='Monthly P&L'!N47 | G47: =IF($F$11=0,"",F47/$F$11)
A48: NET INCOME BEFORE TAX | B48: =SUM('Monthly P&L'!B48:D48) | C48: =SUM('Monthly P&L'!E48:G48) | D48: =SUM('Monthly P&L'!H48:J48) | E48: =SUM('Monthly P&L'!K48:M48) | F48: ='Monthly P&L'!N48 | G48: =IF($F$11=0,"",F48/$F$11)
A49: Income tax expense | B49: =SUM('Monthly P&L'!B49:D49) | C49: =SUM('Monthly P&L'!E49:G49) | D49: =SUM('Monthly P&L'!H49:J49) | E49: =SUM('Monthly P&L'!K49:M49) | F49: ='Monthly P&L'!N49 | G49: =IF($F$11=0,"",F49/$F$11)
...

Sheet How to use
A1: How to use this profit and loss template
A3: What this workbook does
A5: A profit and loss statement (P&L, also called an income statement) shows revenue minus costs over a period, ending in net income: what the business actually earned.
A6: Sheet 'Monthly P&L' holds 12 months of figures. Sheet 'Annual summary' rolls them into quarters and a full year automatically, with each line as a % of revenue.
A7: Step by step
A9: 1. Type your business name in cell A2 and the first month of your year in B3 (the month headers update automatically).
A10: 2. Enter each month's figures in the pale yellow cells as positive numbers. Refunds and expenses are subtracted by the formulas, so do not type minus signs.
A11: 3. Use cash received/paid (cash basis) or amounts invoiced/billed (accrual basis), but use the same method all year.
A12: 4. Put direct costs of what you sell in COGS, and running costs in Operating expenses. A service business with no direct costs can leave COGS blank.
A13: 5. Rename or replace expense lines to match your business. Insert new rows inside a section (above its total row) so the SUM formulas include them.
A14: Reading the result
A16: Gross profit = revenue - COGS. Operating income = gross profit - operating expenses. Net income = operating income + other income - other expenses - income tax.
... A23: Free template from PilotLedger — pilotledger.net
